BEGIN:VCALENDAR
VERSION:2.0
PRODID:-//childbereavement.org//NONSGML kigkonsult.se iCalcreator 2.30.10//
CALSCALE:GREGORIAN
METHOD:PUBLISH
UID:5678335e-7f09-4a70-a701-8d5f499efa9d
X-WR-CALDESC:
X-WR-RELCALID:16f26f0b2e8d80c388270a063450f859
X-WR-TIMEZONE:America/New_York
BEGIN:VTIMEZONE
TZID:America/New_York
BEGIN:STANDARD
TZNAME:EST
DTSTART:20221106T020000
TZOFFSETFROM:-0400
TZOFFSETTO:-0500
RDATE:20231105T020000
RDATE:20241103T020000
END:STANDARD
BEGIN:DAYLIGHT
TZNAME:EDT
DTSTART:20230312T020000
TZOFFSETFROM:-0500
TZOFFSETTO:-0400
RDATE:20240310T020000
RDATE:20250309T020000
END:DAYLIGHT
END:VTIMEZONE
BEGIN:VEVENT
UID:af915c90-4fd5-433c-af21-9f2944d53e4f
DTSTAMP:20260419T134158Z
DESCRIPTION:
DTSTART;TZID=America/New_York:20230925T190000
DTEND;TZID=America/New_York:20230925T203000
LOCATION:https://childbereavement.org/support-groups/grief-support.html
SUMMARY:Child Loss Adult English Grief Support Group
END:VEVENT
END:VCALENDAR
