BEGIN:VCALENDAR
VERSION:2.0
PRODID:-//childbereavement.org//NONSGML kigkonsult.se iCalcreator 2.30.10//
CALSCALE:GREGORIAN
METHOD:PUBLISH
UID:5fd66b62-018a-4a4c-86c0-606fb7067125
X-WR-CALDESC:
X-WR-RELCALID:25435f1ae8f65c5037dae59931b5f787
X-WR-TIMEZONE:America/New_York
BEGIN:VTIMEZONE
TZID:America/New_York
BEGIN:STANDARD
TZNAME:EST
DTSTART:20221106T020000
TZOFFSETFROM:-0400
TZOFFSETTO:-0500
RDATE:20231105T020000
RDATE:20241103T020000
END:STANDARD
BEGIN:DAYLIGHT
TZNAME:EDT
DTSTART:20230312T020000
TZOFFSETFROM:-0500
TZOFFSETTO:-0400
RDATE:20240310T020000
RDATE:20250309T020000
END:DAYLIGHT
END:VTIMEZONE
BEGIN:VEVENT
UID:599ad432-6ecf-4517-8193-3e92c413a554
DTSTAMP:20260419T133745Z
DESCRIPTION:
DTSTART;TZID=America/New_York:20230913T190000
DTEND;TZID=America/New_York:20230913T203000
LOCATION:https://childbereavement.org/support-groups/grief-support.html
SUMMARY:Young Adult Grief Support Group
END:VEVENT
END:VCALENDAR
