BEGIN:VCALENDAR
VERSION:2.0
PRODID:-//childbereavement.org//NONSGML kigkonsult.se iCalcreator 2.30.10//
CALSCALE:GREGORIAN
METHOD:PUBLISH
UID:3035c310-b9e4-4e11-a859-53cdbd525903
X-WR-CALDESC:
X-WR-RELCALID:a0c6b1cda56920742684f942d3e340bb
X-WR-TIMEZONE:America/New_York
BEGIN:VTIMEZONE
TZID:America/New_York
BEGIN:STANDARD
TZNAME:EST
DTSTART:20221106T020000
TZOFFSETFROM:-0400
TZOFFSETTO:-0500
RDATE:20231105T020000
RDATE:20241103T020000
END:STANDARD
BEGIN:DAYLIGHT
TZNAME:EDT
DTSTART:20230312T020000
TZOFFSETFROM:-0500
TZOFFSETTO:-0400
RDATE:20240310T020000
RDATE:20250309T020000
END:DAYLIGHT
END:VTIMEZONE
BEGIN:VEVENT
UID:17aa2ec6-e035-452e-ba5c-a0b72466e0b7
DTSTAMP:20260419T134142Z
DESCRIPTION:
DTSTART;TZID=America/New_York:20230913T190000
DTEND;TZID=America/New_York:20230913T203000
LOCATION:https://childbereavement.org/en-espanol/
SUMMARY:Grupo de Perdida Perinatal Y de Infancia Español
END:VEVENT
END:VCALENDAR
