BEGIN:VCALENDAR
VERSION:2.0
PRODID:-//childbereavement.org//NONSGML kigkonsult.se iCalcreator 2.30.10//
CALSCALE:GREGORIAN
METHOD:PUBLISH
UID:1fcb859c-f253-4e74-88a3-7323ae98c975
X-WR-CALDESC:
X-WR-RELCALID:1ebb203667d344aa791777efe0b0f386
X-WR-TIMEZONE:America/New_York
BEGIN:VTIMEZONE
TZID:America/New_York
BEGIN:STANDARD
TZNAME:EST
DTSTART:20221106T020000
TZOFFSETFROM:-0400
TZOFFSETTO:-0500
RDATE:20231105T020000
RDATE:20241103T020000
END:STANDARD
BEGIN:DAYLIGHT
TZNAME:EDT
DTSTART:20230312T020000
TZOFFSETFROM:-0500
TZOFFSETTO:-0400
RDATE:20240310T020000
RDATE:20250309T020000
END:DAYLIGHT
END:VTIMEZONE
BEGIN:VEVENT
UID:d54e9e8d-3d63-4d43-829d-3f05fbd1c30f
DTSTAMP:20260419T133817Z
DESCRIPTION:
DTSTART;TZID=America/New_York:20230913T170000
DTEND;TZID=America/New_York:20230913T180000
LOCATION:https://childbereavement.org/en-espanol/
SUMMARY:Orientación  (En Español)
END:VEVENT
END:VCALENDAR
