BEGIN:VCALENDAR
VERSION:2.0
PRODID:-//childbereavement.org//NONSGML kigkonsult.se iCalcreator 2.30.10//
CALSCALE:GREGORIAN
METHOD:PUBLISH
UID:27a9a500-3ee1-42c0-9095-9a6eb6b6f7da
X-WR-CALDESC:
X-WR-RELCALID:3fd9b07ec22bb580d5023d26c7143e7e
X-WR-TIMEZONE:America/New_York
BEGIN:VTIMEZONE
TZID:America/New_York
BEGIN:STANDARD
TZNAME:EST
DTSTART:20221106T020000
TZOFFSETFROM:-0400
TZOFFSETTO:-0500
RDATE:20231105T020000
RDATE:20241103T020000
END:STANDARD
BEGIN:DAYLIGHT
TZNAME:EDT
DTSTART:20230312T020000
TZOFFSETFROM:-0500
TZOFFSETTO:-0400
RDATE:20240310T020000
RDATE:20250309T020000
END:DAYLIGHT
END:VTIMEZONE
BEGIN:VEVENT
UID:aae60138-d30a-45ef-aea3-3771a724d745
DTSTAMP:20260419T133214Z
DESCRIPTION:
DTSTART;TZID=America/New_York:20230911T173000
DTEND;TZID=America/New_York:20230911T183000
LOCATION:https://childbereavement.org/support-groups/grief-support.html
SUMMARY:Elementary Grief Support Group
END:VEVENT
END:VCALENDAR
