BEGIN:VCALENDAR
VERSION:2.0
PRODID:-//childbereavement.org//NONSGML kigkonsult.se iCalcreator 2.30.10//
CALSCALE:GREGORIAN
METHOD:PUBLISH
UID:edcd1b19-434b-4d34-a171-36757906f546
X-WR-CALDESC:
X-WR-RELCALID:2bb808f49c84c5af027df0fda30e4ea8
X-WR-TIMEZONE:America/New_York
BEGIN:VTIMEZONE
TZID:America/New_York
BEGIN:STANDARD
TZNAME:EST
DTSTART:20221106T020000
TZOFFSETFROM:-0400
TZOFFSETTO:-0500
RDATE:20231105T020000
RDATE:20241103T020000
END:STANDARD
BEGIN:DAYLIGHT
TZNAME:EDT
DTSTART:20230312T020000
TZOFFSETFROM:-0500
TZOFFSETTO:-0400
RDATE:20240310T020000
END:DAYLIGHT
END:VTIMEZONE
BEGIN:VEVENT
UID:51c8cb9f-442e-453d-8c7d-4fc239432ea5
DTSTAMP:20260419T133636Z
DESCRIPTION:
DTSTART;TZID=America/New_York:20230906T000000
DTEND;TZID=America/New_York:20230906T082900
LOCATION:
SUMMARY:No Groups Meeting
END:VEVENT
END:VCALENDAR
