BEGIN:VCALENDAR
VERSION:2.0
PRODID:-//childbereavement.org//NONSGML kigkonsult.se iCalcreator 2.30.10//
CALSCALE:GREGORIAN
METHOD:PUBLISH
UID:d41d5ee7-10a2-4517-b686-32ee1f0056dc
X-WR-CALDESC:
X-WR-RELCALID:7fdb9533e8763ed14a85e28b111934f1
X-WR-TIMEZONE:America/New_York
BEGIN:VTIMEZONE
TZID:America/New_York
BEGIN:STANDARD
TZNAME:EST
DTSTART:20221106T020000
TZOFFSETFROM:-0400
TZOFFSETTO:-0500
RDATE:20231105T020000
RDATE:20241103T020000
END:STANDARD
BEGIN:DAYLIGHT
TZNAME:EDT
DTSTART:20230312T020000
TZOFFSETFROM:-0500
TZOFFSETTO:-0400
RDATE:20240310T020000
END:DAYLIGHT
END:VTIMEZONE
BEGIN:VEVENT
UID:3ace81a6-b265-4e75-92d7-a1c1f7e07cf6
DTSTAMP:20260419T133745Z
DESCRIPTION:
DTSTART;TZID=America/New_York:20230905T190000
DTEND;TZID=America/New_York:20230905T200000
LOCATION:https://www.eventbrite.com/e/noche-de-bienestar-y-relajacion-con-c
 bc-9523-tickets-701143478017?aff=odeimcmailchimp&mc_eid=d93a1938e8&mc_cid=
 26f47c2166
SUMMARY:Noche de Bienestar y Relajación con CBC
END:VEVENT
END:VCALENDAR
