BEGIN:VCALENDAR
VERSION:2.0
PRODID:-//childbereavement.org//NONSGML kigkonsult.se iCalcreator 2.30.10//
CALSCALE:GREGORIAN
METHOD:PUBLISH
UID:5f7c6725-4984-4a0e-a9ae-c03e4c768abd
X-WR-CALDESC:
X-WR-RELCALID:163b82df764e3a135b81ebdd30e79b17
X-WR-TIMEZONE:America/New_York
BEGIN:VTIMEZONE
TZID:America/New_York
BEGIN:STANDARD
TZNAME:EST
DTSTART:20221106T020000
TZOFFSETFROM:-0400
TZOFFSETTO:-0500
RDATE:20231105T020000
RDATE:20241103T020000
END:STANDARD
BEGIN:DAYLIGHT
TZNAME:EDT
DTSTART:20230312T020000
TZOFFSETFROM:-0500
TZOFFSETTO:-0400
RDATE:20240310T020000
END:DAYLIGHT
END:VTIMEZONE
BEGIN:VEVENT
UID:0a18d591-bb78-4431-88e4-d6fe1747ee06
DTSTAMP:20260419T150358Z
DESCRIPTION:
DTSTART;TZID=America/New_York:20230824T170000
DTEND;TZID=America/New_York:20230824T190000
LOCATION:1315 West Broward Boulevard\, Fort Lauderdale\, FL 33312 US
SUMMARY:Connect & Remember Together at Jack & Jill Center
END:VEVENT
END:VCALENDAR
