BEGIN:VCALENDAR
VERSION:2.0
PRODID:-//childbereavement.org//NONSGML kigkonsult.se iCalcreator 2.30.10//
CALSCALE:GREGORIAN
METHOD:PUBLISH
UID:1e86bc06-485b-4a7c-ad0d-ab0dd5af093a
X-WR-CALDESC:
X-WR-RELCALID:17616aa734abfc287dad696e03bf73ac
X-WR-TIMEZONE:America/New_York
BEGIN:VTIMEZONE
TZID:America/New_York
BEGIN:STANDARD
TZNAME:EST
DTSTART:20221106T020000
TZOFFSETFROM:-0400
TZOFFSETTO:-0500
RDATE:20231105T020000
RDATE:20241103T020000
END:STANDARD
BEGIN:DAYLIGHT
TZNAME:EDT
DTSTART:20230312T020000
TZOFFSETFROM:-0500
TZOFFSETTO:-0400
RDATE:20240310T020000
END:DAYLIGHT
END:VTIMEZONE
BEGIN:VEVENT
UID:9adceb08-88b6-4495-b03c-61adf69ebf8b
DTSTAMP:20260419T150221Z
DESCRIPTION:
DTSTART;TZID=America/New_York:20230823T183000
DTEND;TZID=America/New_York:20230823T203000
LOCATION:5801 Southwest 186th Avenue \, Homestead\, FL 33034 US
SUMMARY:Connect & Remember Together at Centro Campesino
END:VEVENT
END:VCALENDAR
