BEGIN:VCALENDAR
VERSION:2.0
PRODID:-//childbereavement.org//NONSGML kigkonsult.se iCalcreator 2.30.10//
CALSCALE:GREGORIAN
METHOD:PUBLISH
UID:3a4661bb-a44e-4e79-9500-0692b70242ff
X-WR-CALDESC:
X-WR-RELCALID:d878200636b841b4e91711c6757e5903
X-WR-TIMEZONE:America/New_York
BEGIN:VTIMEZONE
TZID:America/New_York
BEGIN:STANDARD
TZNAME:EST
DTSTART:20221106T020000
TZOFFSETFROM:-0400
TZOFFSETTO:-0500
RDATE:20231105T020000
RDATE:20241103T020000
END:STANDARD
BEGIN:DAYLIGHT
TZNAME:EDT
DTSTART:20230312T020000
TZOFFSETFROM:-0500
TZOFFSETTO:-0400
RDATE:20240310T020000
END:DAYLIGHT
END:VTIMEZONE
BEGIN:VEVENT
UID:2fd7f433-d324-425f-992f-703fdcf28829
DTSTAMP:20260419T150519Z
DESCRIPTION:
DTSTART;TZID=America/New_York:20230822T173000
DTEND;TZID=America/New_York:20230822T193000
LOCATION:13450 West Dixie Highway\, North Miami\, FL 33161 US
SUMMARY:Connect & Remember Together at Sant La
END:VEVENT
END:VCALENDAR
