BEGIN:VCALENDAR
VERSION:2.0
PRODID:-//childbereavement.org//NONSGML kigkonsult.se iCalcreator 2.30.10//
CALSCALE:GREGORIAN
METHOD:PUBLISH
UID:886ac62f-0c7f-47ce-a4fb-3e96b27b7cb4
X-WR-CALDESC:
X-WR-RELCALID:37d6768693bb1c30021f9bc0397ef8b9
X-WR-TIMEZONE:America/New_York
BEGIN:VTIMEZONE
TZID:America/New_York
BEGIN:STANDARD
TZNAME:EST
DTSTART:20221106T020000
TZOFFSETFROM:-0400
TZOFFSETTO:-0500
RDATE:20231105T020000
RDATE:20241103T020000
END:STANDARD
BEGIN:DAYLIGHT
TZNAME:EDT
DTSTART:20230312T020000
TZOFFSETFROM:-0500
TZOFFSETTO:-0400
RDATE:20240310T020000
END:DAYLIGHT
END:VTIMEZONE
BEGIN:VEVENT
UID:6c51b35f-ce45-4ccd-8a1b-69721d5dab35
DTSTAMP:20260419T150005Z
DESCRIPTION:
DTSTART;TZID=America/New_York:20230821T190000
DTEND;TZID=America/New_York:20230821T200000
LOCATION:https://us02web.zoom.us/meeting/register/tZEvcu6hqz0uHdHAbab73Otnf
 VbNjPWe4YyG?_x_zm_rtaid=KbHhkiJ_Royglux6psT0LA.1692125788359.325cf9a29b3b2
 f16f15cdef93b80bf06&_x_zm_rhtaid=760#/registration
SUMMARY:Online Connect & Remember Together
END:VEVENT
END:VCALENDAR
