BEGIN:VCALENDAR
VERSION:2.0
PRODID:-//childbereavement.org//NONSGML kigkonsult.se iCalcreator 2.30.10//
CALSCALE:GREGORIAN
METHOD:PUBLISH
UID:7215caf7-c550-482c-ae0c-367c0aedc186
X-WR-CALDESC:
X-WR-RELCALID:730e9dcdc1d6ee4393333fd1350da091
X-WR-TIMEZONE:America/New_York
BEGIN:VTIMEZONE
TZID:America/New_York
BEGIN:STANDARD
TZNAME:EST
DTSTART:20221106T020000
TZOFFSETFROM:-0400
TZOFFSETTO:-0500
RDATE:20231105T020000
RDATE:20241103T020000
END:STANDARD
BEGIN:DAYLIGHT
TZNAME:EDT
DTSTART:20230312T020000
TZOFFSETFROM:-0500
TZOFFSETTO:-0400
RDATE:20240310T020000
END:DAYLIGHT
END:VTIMEZONE
BEGIN:VEVENT
UID:18bf3c0e-6e01-4cef-bd20-8062c75e4b90
DTSTAMP:20260419T150723Z
DESCRIPTION:
DTSTART;TZID=America/New_York:20230816T190000
DTEND;TZID=America/New_York:20230816T203000
LOCATION:https://childbereavement.org/support-groups/grief-support.html
SUMMARY:Adult English Grief Support Group
END:VEVENT
END:VCALENDAR
