BEGIN:VCALENDAR
VERSION:2.0
PRODID:-//childbereavement.org//NONSGML kigkonsult.se iCalcreator 2.30.10//
CALSCALE:GREGORIAN
METHOD:PUBLISH
UID:967aeb96-5467-4dca-9f11-a8e28fd48fb3
X-WR-CALDESC:
X-WR-RELCALID:24fea43da77f398fab6e614c3fbf88ee
X-WR-TIMEZONE:America/New_York
BEGIN:VTIMEZONE
TZID:America/New_York
BEGIN:STANDARD
TZNAME:EST
DTSTART:20221106T020000
TZOFFSETFROM:-0400
TZOFFSETTO:-0500
RDATE:20231105T020000
RDATE:20241103T020000
END:STANDARD
BEGIN:DAYLIGHT
TZNAME:EDT
DTSTART:20230312T020000
TZOFFSETFROM:-0500
TZOFFSETTO:-0400
RDATE:20240310T020000
END:DAYLIGHT
END:VTIMEZONE
BEGIN:VEVENT
UID:1acf19a0-61fb-442a-9a6e-678407ad7b51
DTSTAMP:20260419T150436Z
DESCRIPTION:
DTSTART;TZID=America/New_York:20230815T190000
DTEND;TZID=America/New_York:20230815T203000
LOCATION:https://childbereavement.org/support-groups/grief-support.html
SUMMARY:High School Grief Support Groups
END:VEVENT
END:VCALENDAR
