BEGIN:VCALENDAR
VERSION:2.0
PRODID:-//childbereavement.org//NONSGML kigkonsult.se iCalcreator 2.30.10//
CALSCALE:GREGORIAN
METHOD:PUBLISH
UID:0f61ad5a-5c3a-4763-85ba-b6fae604c0c7
X-WR-CALDESC:
X-WR-RELCALID:5a6cfe33bb5e09d0014aab7ce21e7013
X-WR-TIMEZONE:America/New_York
BEGIN:VTIMEZONE
TZID:America/New_York
BEGIN:STANDARD
TZNAME:EST
DTSTART:20221106T020000
TZOFFSETFROM:-0400
TZOFFSETTO:-0500
RDATE:20231105T020000
RDATE:20241103T020000
END:STANDARD
BEGIN:DAYLIGHT
TZNAME:EDT
DTSTART:20230312T020000
TZOFFSETFROM:-0500
TZOFFSETTO:-0400
RDATE:20240310T020000
END:DAYLIGHT
END:VTIMEZONE
BEGIN:VEVENT
UID:93c19000-a75c-4c98-a346-25231ec6606e
DTSTAMP:20260419T150227Z
DESCRIPTION:
DTSTART;TZID=America/New_York:20230814T190000
DTEND;TZID=America/New_York:20230814T203000
LOCATION:https://childbereavement.org/support-groups/grief-support.html
SUMMARY:Middle School Grief Support Group
END:VEVENT
END:VCALENDAR
