BEGIN:VCALENDAR
VERSION:2.0
PRODID:-//childbereavement.org//NONSGML kigkonsult.se iCalcreator 2.30.10//
CALSCALE:GREGORIAN
METHOD:PUBLISH
UID:6b417b23-3ed1-4f1e-ac64-99b738b64ad0
X-WR-CALDESC:
X-WR-RELCALID:c61b29f8d98715392e024694409ae16b
X-WR-TIMEZONE:America/New_York
BEGIN:VTIMEZONE
TZID:America/New_York
BEGIN:STANDARD
TZNAME:EST
DTSTART:20221106T020000
TZOFFSETFROM:-0400
TZOFFSETTO:-0500
RDATE:20231105T020000
RDATE:20241103T020000
END:STANDARD
BEGIN:DAYLIGHT
TZNAME:EDT
DTSTART:20230312T020000
TZOFFSETFROM:-0500
TZOFFSETTO:-0400
RDATE:20240310T020000
END:DAYLIGHT
END:VTIMEZONE
BEGIN:VEVENT
UID:dde6e7f1-ac62-4d6e-991b-207f95fef7ea
DTSTAMP:20260419T151029Z
DESCRIPTION:
DTSTART;TZID=America/New_York:20230814T190000
DTEND;TZID=America/New_York:20230814T203000
LOCATION:https://childbereavement.org/support-groups/grief-support.html
SUMMARY:Child Loss Adult English Grief Support Group
END:VEVENT
END:VCALENDAR
