BEGIN:VCALENDAR
VERSION:2.0
PRODID:-//childbereavement.org//NONSGML kigkonsult.se iCalcreator 2.30.10//
CALSCALE:GREGORIAN
METHOD:PUBLISH
UID:571afb6a-db63-4548-925d-abb76e7cc1f9
X-WR-CALDESC:
X-WR-RELCALID:b532b96ce42c657fb2dd95594a0bfd38
X-WR-TIMEZONE:America/New_York
BEGIN:VTIMEZONE
TZID:America/New_York
BEGIN:STANDARD
TZNAME:EST
DTSTART:20221106T020000
TZOFFSETFROM:-0400
TZOFFSETTO:-0500
RDATE:20231105T020000
RDATE:20241103T020000
END:STANDARD
BEGIN:DAYLIGHT
TZNAME:EDT
DTSTART:20230312T020000
TZOFFSETFROM:-0500
TZOFFSETTO:-0400
RDATE:20240310T020000
END:DAYLIGHT
END:VTIMEZONE
BEGIN:VEVENT
UID:c450392d-f773-4fb7-8a0e-972c61cb5340
DTSTAMP:20260419T150032Z
DESCRIPTION:
DTSTART;TZID=America/New_York:20230814T173000
DTEND;TZID=America/New_York:20230814T183000
LOCATION:https://childbereavement.org/support-groups/grief-support.html
SUMMARY:Elementary Grief Support Group
END:VEVENT
END:VCALENDAR
