BEGIN:VCALENDAR
VERSION:2.0
PRODID:-//childbereavement.org//NONSGML kigkonsult.se iCalcreator 2.30.10//
CALSCALE:GREGORIAN
METHOD:PUBLISH
UID:0382f691-858b-4fab-92c6-ea9d9f456cf1
X-WR-CALDESC:
X-WR-RELCALID:b35c1927d4394321631146eea1dedd54
X-WR-TIMEZONE:America/New_York
BEGIN:VTIMEZONE
TZID:America/New_York
BEGIN:STANDARD
TZNAME:EST
DTSTART:20221106T020000
TZOFFSETFROM:-0400
TZOFFSETTO:-0500
RDATE:20231105T020000
RDATE:20241103T020000
END:STANDARD
BEGIN:DAYLIGHT
TZNAME:EDT
DTSTART:20230312T020000
TZOFFSETFROM:-0500
TZOFFSETTO:-0400
RDATE:20240310T020000
END:DAYLIGHT
END:VTIMEZONE
BEGIN:VEVENT
UID:197dec0a-af6a-46e2-abe4-053d66e8ef5b
DTSTAMP:20260419T150517Z
DESCRIPTION:
DTSTART;TZID=America/New_York:20230802T190000
DTEND;TZID=America/New_York:20230802T210000
LOCATION:https://childbereavement.org/en-espanol/
SUMMARY:Grupo de Español
END:VEVENT
END:VCALENDAR
