BEGIN:VCALENDAR
VERSION:2.0
PRODID:-//childbereavement.org//NONSGML kigkonsult.se iCalcreator 2.30.10//
CALSCALE:GREGORIAN
METHOD:PUBLISH
UID:2f7f2bb3-05f2-496f-9934-0f73a7786174
X-WR-CALDESC:
X-WR-RELCALID:f21a2d6488df3c3d43b9db2c97bcd3cd
X-WR-TIMEZONE:America/New_York
BEGIN:VTIMEZONE
TZID:America/New_York
BEGIN:STANDARD
TZNAME:EST
DTSTART:20221106T020000
TZOFFSETFROM:-0400
TZOFFSETTO:-0500
RDATE:20231105T020000
RDATE:20241103T020000
END:STANDARD
BEGIN:DAYLIGHT
TZNAME:EDT
DTSTART:20230312T020000
TZOFFSETFROM:-0500
TZOFFSETTO:-0400
RDATE:20240310T020000
END:DAYLIGHT
END:VTIMEZONE
BEGIN:VEVENT
UID:c659e805-973d-4a48-a628-ce0032a1e502
DTSTAMP:20260419T162845Z
DESCRIPTION:
DTSTART;TZID=America/New_York:20230731T190000
DTEND;TZID=America/New_York:20230731T203000
LOCATION:https://childbereavement.org/support-groups/grief-support.html
SUMMARY:Middle School Grief Support Group
END:VEVENT
END:VCALENDAR
