BEGIN:VCALENDAR
VERSION:2.0
PRODID:-//childbereavement.org//NONSGML kigkonsult.se iCalcreator 2.30.10//
CALSCALE:GREGORIAN
METHOD:PUBLISH
UID:4825d28e-d361-451a-a2e2-0d1291f3f0cb
X-WR-CALDESC:
X-WR-RELCALID:67f59b23360a6f22742c11d2cc324f26
X-WR-TIMEZONE:America/New_York
BEGIN:VTIMEZONE
TZID:America/New_York
BEGIN:STANDARD
TZNAME:EST
DTSTART:20221106T020000
TZOFFSETFROM:-0400
TZOFFSETTO:-0500
RDATE:20231105T020000
RDATE:20241103T020000
END:STANDARD
BEGIN:DAYLIGHT
TZNAME:EDT
DTSTART:20230312T020000
TZOFFSETFROM:-0500
TZOFFSETTO:-0400
RDATE:20240310T020000
END:DAYLIGHT
END:VTIMEZONE
BEGIN:VEVENT
UID:bfda97f2-e1da-416a-948c-f68f772e4121
DTSTAMP:20260419T164552Z
DESCRIPTION:
DTSTART;TZID=America/New_York:20230724T190000
DTEND;TZID=America/New_York:20230724T203000
LOCATION:https://childbereavement.org/support-groups/grief-support.html
SUMMARY:Adult English Grief Support Group
END:VEVENT
END:VCALENDAR
