BEGIN:VCALENDAR
VERSION:2.0
PRODID:-//childbereavement.org//NONSGML kigkonsult.se iCalcreator 2.30.10//
CALSCALE:GREGORIAN
METHOD:PUBLISH
UID:6dabc21b-357e-485c-9859-ebbc9ea28593
X-WR-CALDESC:
X-WR-RELCALID:ad1f27d98603698d7c6d7ed47455c202
X-WR-TIMEZONE:America/New_York
BEGIN:VTIMEZONE
TZID:America/New_York
BEGIN:STANDARD
TZNAME:EST
DTSTART:20221106T020000
TZOFFSETFROM:-0400
TZOFFSETTO:-0500
RDATE:20231105T020000
RDATE:20241103T020000
END:STANDARD
BEGIN:DAYLIGHT
TZNAME:EDT
DTSTART:20230312T020000
TZOFFSETFROM:-0500
TZOFFSETTO:-0400
RDATE:20240310T020000
END:DAYLIGHT
END:VTIMEZONE
BEGIN:VEVENT
UID:a077675c-63ae-4a9e-8be7-9ab043f24812
DTSTAMP:20260419T163251Z
DESCRIPTION:
DTSTART;TZID=America/New_York:20230712T170000
DTEND;TZID=America/New_York:20230712T180000
LOCATION:https://childbereavement.org/en-espanol/
SUMMARY:Orientación  (En Español)
END:VEVENT
END:VCALENDAR
