BEGIN:VCALENDAR
VERSION:2.0
PRODID:-//childbereavement.org//NONSGML kigkonsult.se iCalcreator 2.30.10//
CALSCALE:GREGORIAN
METHOD:PUBLISH
UID:e3c76217-f82f-4847-a912-7883336ffbdd
X-WR-CALDESC:
X-WR-RELCALID:661c77cf0a7e64e9a41275b871288c9e
X-WR-TIMEZONE:America/New_York
BEGIN:VTIMEZONE
TZID:America/New_York
BEGIN:STANDARD
TZNAME:EST
DTSTART:20221106T020000
TZOFFSETFROM:-0400
TZOFFSETTO:-0500
RDATE:20231105T020000
RDATE:20241103T020000
END:STANDARD
BEGIN:DAYLIGHT
TZNAME:EDT
DTSTART:20230312T020000
TZOFFSETFROM:-0500
TZOFFSETTO:-0400
RDATE:20240310T020000
END:DAYLIGHT
END:VTIMEZONE
BEGIN:VEVENT
UID:9f5ff493-b27e-4481-a1d8-878d5f3445cd
DTSTAMP:20260419T163127Z
DESCRIPTION:
DTSTART;TZID=America/New_York:20230711T190000
DTEND;TZID=America/New_York:20230711T203000
LOCATION:https://childbereavement.org/support-groups/grief-support.html
SUMMARY:High School Grief Support Groups
END:VEVENT
END:VCALENDAR
