BEGIN:VCALENDAR
VERSION:2.0
PRODID:-//childbereavement.org//NONSGML kigkonsult.se iCalcreator 2.30.10//
CALSCALE:GREGORIAN
METHOD:PUBLISH
UID:d6e5fea8-19a7-4d95-a833-7b99cd18cec0
X-WR-CALDESC:
X-WR-RELCALID:c4a6d4844908798694a2f6d8a8fafc1b
X-WR-TIMEZONE:America/New_York
BEGIN:VTIMEZONE
TZID:America/New_York
BEGIN:STANDARD
TZNAME:EST
DTSTART:20221106T020000
TZOFFSETFROM:-0400
TZOFFSETTO:-0500
RDATE:20231105T020000
RDATE:20241103T020000
END:STANDARD
BEGIN:DAYLIGHT
TZNAME:EDT
DTSTART:20230312T020000
TZOFFSETFROM:-0500
TZOFFSETTO:-0400
RDATE:20240310T020000
END:DAYLIGHT
END:VTIMEZONE
BEGIN:VEVENT
UID:f21a2609-87cf-4cb5-a6f1-1ecd227b0f91
DTSTAMP:20260419T162843Z
DESCRIPTION:
DTSTART;TZID=America/New_York:20230710T190000
DTEND;TZID=America/New_York:20230710T203000
LOCATION:https://childbereavement.org/support-groups/grief-support.html
SUMMARY:Middle School Grief Support Group
END:VEVENT
END:VCALENDAR
