BEGIN:VCALENDAR
VERSION:2.0
PRODID:-//childbereavement.org//NONSGML kigkonsult.se iCalcreator 2.30.10//
CALSCALE:GREGORIAN
METHOD:PUBLISH
UID:ee093f98-c19b-465b-8ffb-cde6c010c0e0
X-WR-CALDESC:
X-WR-RELCALID:c5bc2e873dc93238d9e51774aa5feb4b
X-WR-TIMEZONE:America/New_York
BEGIN:VTIMEZONE
TZID:America/New_York
BEGIN:STANDARD
TZNAME:EST
DTSTART:20221106T020000
TZOFFSETFROM:-0400
TZOFFSETTO:-0500
RDATE:20231105T020000
RDATE:20241103T020000
END:STANDARD
BEGIN:DAYLIGHT
TZNAME:EDT
DTSTART:20230312T020000
TZOFFSETFROM:-0500
TZOFFSETTO:-0400
RDATE:20240310T020000
END:DAYLIGHT
END:VTIMEZONE
BEGIN:VEVENT
UID:976c3575-63b7-4c90-9bd7-e83b7ba78e0e
DTSTAMP:20260419T162605Z
DESCRIPTION:
DTSTART;TZID=America/New_York:20230710T173000
DTEND;TZID=America/New_York:20230710T183000
LOCATION:https://childbereavement.org/support-groups/grief-support.html
SUMMARY:Elementary Grief Support Group
END:VEVENT
END:VCALENDAR
