BEGIN:VCALENDAR
VERSION:2.0
PRODID:-//childbereavement.org//NONSGML kigkonsult.se iCalcreator 2.30.10//
CALSCALE:GREGORIAN
METHOD:PUBLISH
UID:342af048-f948-409c-9ec2-b481b9c7af7c
X-WR-CALDESC:
X-WR-RELCALID:e267b5d34f448fd21d72444a196a48e0
X-WR-TIMEZONE:America/New_York
BEGIN:VTIMEZONE
TZID:America/New_York
BEGIN:STANDARD
TZNAME:EST
DTSTART:20221106T020000
TZOFFSETFROM:-0400
TZOFFSETTO:-0500
RDATE:20231105T020000
RDATE:20241103T020000
END:STANDARD
BEGIN:DAYLIGHT
TZNAME:EDT
DTSTART:20230312T020000
TZOFFSETFROM:-0500
TZOFFSETTO:-0400
RDATE:20240310T020000
END:DAYLIGHT
END:VTIMEZONE
BEGIN:VEVENT
UID:bca52d26-3159-4094-a1ef-f0289482c4cc
DTSTAMP:20260419T163233Z
DESCRIPTION:
DTSTART;TZID=America/New_York:20230710T170000
DTEND;TZID=America/New_York:20230710T180000
LOCATION:https://childbereavement.org/support-groups/grief-support.html
SUMMARY:Orientation for Grief Support Groups\, English
END:VEVENT
END:VCALENDAR
