BEGIN:VCALENDAR
VERSION:2.0
PRODID:-//childbereavement.org//NONSGML kigkonsult.se iCalcreator 2.30.10//
CALSCALE:GREGORIAN
METHOD:PUBLISH
UID:993f0f75-6d0a-4801-b79b-d85abbc6cec1
X-WR-CALDESC:
X-WR-RELCALID:dcb2501c0cfb83b5d2aadd6fc96d6d70
X-WR-TIMEZONE:America/New_York
BEGIN:VTIMEZONE
TZID:America/New_York
BEGIN:STANDARD
TZNAME:EST
DTSTART:20221106T020000
TZOFFSETFROM:-0400
TZOFFSETTO:-0500
RDATE:20231105T020000
RDATE:20241103T020000
END:STANDARD
BEGIN:DAYLIGHT
TZNAME:EDT
DTSTART:20230312T020000
TZOFFSETFROM:-0500
TZOFFSETTO:-0400
RDATE:20240310T020000
END:DAYLIGHT
END:VTIMEZONE
BEGIN:VEVENT
UID:82a65f2e-b47f-4cf4-a863-40a3b0718eea
DTSTAMP:20260419T163250Z
DESCRIPTION:
DTSTART;TZID=America/New_York:20230705T190000
DTEND;TZID=America/New_York:20230705T210000
LOCATION:https://childbereavement.org/en-espanol/
SUMMARY:Grupo de Español
END:VEVENT
END:VCALENDAR
