BEGIN:VCALENDAR
VERSION:2.0
PRODID:-//childbereavement.org//NONSGML kigkonsult.se iCalcreator 2.30.10//
CALSCALE:GREGORIAN
METHOD:PUBLISH
UID:ce0fa7ef-29d4-4ce0-a3df-09a1fc9adc71
X-WR-CALDESC:
X-WR-RELCALID:a267102787eca26d47a7bdcc0bc45db5
X-WR-TIMEZONE:America/New_York
BEGIN:VTIMEZONE
TZID:America/New_York
BEGIN:STANDARD
TZNAME:EST
DTSTART:20221106T020000
TZOFFSETFROM:-0400
TZOFFSETTO:-0500
RDATE:20231105T020000
RDATE:20241103T020000
END:STANDARD
BEGIN:DAYLIGHT
TZNAME:EDT
DTSTART:20230312T020000
TZOFFSETFROM:-0500
TZOFFSETTO:-0400
RDATE:20240310T020000
END:DAYLIGHT
END:VTIMEZONE
BEGIN:VEVENT
UID:de701a5f-fdae-4388-b8dc-e9cc9514dbcd
DTSTAMP:20260419T162630Z
DESCRIPTION:
DTSTART;TZID=America/New_York:20230704T000000
DTEND;TZID=America/New_York:20230704T082900
LOCATION:
SUMMARY:No Groups Meeting
END:VEVENT
END:VCALENDAR
