BEGIN:VCALENDAR
VERSION:2.0
PRODID:-//childbereavement.org//NONSGML kigkonsult.se iCalcreator 2.30.10//
CALSCALE:GREGORIAN
METHOD:PUBLISH
UID:e5d8fe1f-0713-479f-93c1-51a392574c47
X-WR-CALDESC:
X-WR-RELCALID:40fbb76f9e23e5e78ec8683940c1f4c4
X-WR-TIMEZONE:America/New_York
BEGIN:VTIMEZONE
TZID:America/New_York
BEGIN:STANDARD
TZNAME:EST
DTSTART:20221106T020000
TZOFFSETFROM:-0400
TZOFFSETTO:-0500
RDATE:20231105T020000
RDATE:20241103T020000
END:STANDARD
BEGIN:DAYLIGHT
TZNAME:EDT
DTSTART:20230312T020000
TZOFFSETFROM:-0500
TZOFFSETTO:-0400
RDATE:20240310T020000
END:DAYLIGHT
END:VTIMEZONE
BEGIN:VEVENT
UID:7531750f-fe1e-4291-adf6-2429a87fcc73
DTSTAMP:20260419T180611Z
DESCRIPTION:
DTSTART;TZID=America/New_York:20230629T120000
DTEND;TZID=America/New_York:20230629T133000
LOCATION:https://lgbtqgrief2023.eventbrite.com/
SUMMARY:Finding a Safe Space to Grieve: Special Considerations for LGBTQ+ G
 rief
END:VEVENT
END:VCALENDAR
