BEGIN:VCALENDAR
VERSION:2.0
PRODID:-//childbereavement.org//NONSGML kigkonsult.se iCalcreator 2.30.10//
CALSCALE:GREGORIAN
METHOD:PUBLISH
UID:5c6041d7-1f37-4dcc-93d3-213491aeeb27
X-WR-CALDESC:
X-WR-RELCALID:c236a1c129d392a5d0ac2139341e4986
X-WR-TIMEZONE:America/New_York
BEGIN:VTIMEZONE
TZID:America/New_York
BEGIN:STANDARD
TZNAME:EST
DTSTART:20221106T020000
TZOFFSETFROM:-0400
TZOFFSETTO:-0500
RDATE:20231105T020000
RDATE:20241103T020000
END:STANDARD
BEGIN:DAYLIGHT
TZNAME:EDT
DTSTART:20230312T020000
TZOFFSETFROM:-0500
TZOFFSETTO:-0400
RDATE:20240310T020000
END:DAYLIGHT
END:VTIMEZONE
BEGIN:VEVENT
UID:fdf32a05-59be-424e-b27b-6616fd9103e4
DTSTAMP:20260419T175645Z
DESCRIPTION:
DTSTART;TZID=America/New_York:20230619T000000
DTEND;TZID=America/New_York:20230619T082900
LOCATION:
SUMMARY:No Groups Meeting
END:VEVENT
END:VCALENDAR
