BEGIN:VCALENDAR
VERSION:2.0
PRODID:-//childbereavement.org//NONSGML kigkonsult.se iCalcreator 2.30.10//
CALSCALE:GREGORIAN
METHOD:PUBLISH
UID:51fece2c-2433-4cbe-8560-11b8af6bc270
X-WR-CALDESC:
X-WR-RELCALID:ff287687b16cc3690d8ee6efab106f06
X-WR-TIMEZONE:America/New_York
BEGIN:VTIMEZONE
TZID:America/New_York
BEGIN:STANDARD
TZNAME:EST
DTSTART:20221106T020000
TZOFFSETFROM:-0400
TZOFFSETTO:-0500
RDATE:20231105T020000
RDATE:20241103T020000
END:STANDARD
BEGIN:DAYLIGHT
TZNAME:EDT
DTSTART:20230312T020000
TZOFFSETFROM:-0500
TZOFFSETTO:-0400
RDATE:20240310T020000
END:DAYLIGHT
END:VTIMEZONE
BEGIN:VEVENT
UID:69c067dc-609f-4694-91ed-a42bc3613945
DTSTAMP:20260419T180648Z
DESCRIPTION:
DTSTART;TZID=America/New_York:20230614T190000
DTEND;TZID=America/New_York:20230614T203000
LOCATION:https://childbereavement.org/support-groups/grief-support.html
SUMMARY:Young Adult Grief Support Group
END:VEVENT
END:VCALENDAR
