BEGIN:VCALENDAR
VERSION:2.0
PRODID:-//childbereavement.org//NONSGML kigkonsult.se iCalcreator 2.30.10//
CALSCALE:GREGORIAN
METHOD:PUBLISH
UID:61a3da14-af0d-4ba5-ab34-16c0507144d1
X-WR-CALDESC:
X-WR-RELCALID:2c3315396b5378edb810db209c38f18f
X-WR-TIMEZONE:America/New_York
BEGIN:VTIMEZONE
TZID:America/New_York
BEGIN:STANDARD
TZNAME:EST
DTSTART:20221106T020000
TZOFFSETFROM:-0400
TZOFFSETTO:-0500
RDATE:20231105T020000
RDATE:20241103T020000
END:STANDARD
BEGIN:DAYLIGHT
TZNAME:EDT
DTSTART:20230312T020000
TZOFFSETFROM:-0500
TZOFFSETTO:-0400
RDATE:20240310T020000
END:DAYLIGHT
END:VTIMEZONE
BEGIN:VEVENT
UID:2ed1d36e-2598-4070-b3e1-38bcd6c87df0
DTSTAMP:20260419T180909Z
DESCRIPTION:
DTSTART;TZID=America/New_York:20230614T170000
DTEND;TZID=America/New_York:20230614T180000
LOCATION:https://childbereavement.org/en-espanol/
SUMMARY:Orientación  (En Español)
END:VEVENT
END:VCALENDAR
