BEGIN:VCALENDAR
VERSION:2.0
PRODID:-//childbereavement.org//NONSGML kigkonsult.se iCalcreator 2.30.10//
CALSCALE:GREGORIAN
METHOD:PUBLISH
UID:438c672f-5a4a-4882-90ff-44688a277c2a
X-WR-CALDESC:Dedicated perinatal and infant loss groups are for child loss 
 before birth or during infancy\; available to mothers\, fathers\, couples 
 in English on Tuesdays and Spanish on Wednesdays
X-WR-RELCALID:76a32705d8db92bd2298cce7fdc2e18f
X-WR-TIMEZONE:America/New_York
BEGIN:VTIMEZONE
TZID:America/New_York
BEGIN:STANDARD
TZNAME:EST
DTSTART:20221106T020000
TZOFFSETFROM:-0400
TZOFFSETTO:-0500
RDATE:20231105T020000
RDATE:20241103T020000
END:STANDARD
BEGIN:DAYLIGHT
TZNAME:EDT
DTSTART:20230312T020000
TZOFFSETFROM:-0500
TZOFFSETTO:-0400
RDATE:20240310T020000
END:DAYLIGHT
END:VTIMEZONE
BEGIN:VEVENT
UID:93ada699-6ca6-4302-8d58-72dae66ca528
DTSTAMP:20260419T180449Z
DESCRIPTION:Dedicated perinatal and infant loss groups are for child loss b
 efore birth or during infancy\; available to mothers\, fathers\, couples i
 n English on Tuesdays and Spanish on Wednesdays
DTSTART;TZID=America/New_York:20230613T190000
DTEND;TZID=America/New_York:20230613T203000
LOCATION:https://childbereavement.org/support-groups/grief-support.html
SUMMARY:Perinatal & Infant Loss Grief Support Group
END:VEVENT
END:VCALENDAR
