BEGIN:VCALENDAR
VERSION:2.0
PRODID:-//childbereavement.org//NONSGML kigkonsult.se iCalcreator 2.30.10//
CALSCALE:GREGORIAN
METHOD:PUBLISH
UID:eb102369-f877-4514-a77a-5a262cf1a278
X-WR-CALDESC:
X-WR-RELCALID:9e38dbe07ea24f11e999f7112bb63d3f
X-WR-TIMEZONE:America/New_York
BEGIN:VTIMEZONE
TZID:America/New_York
BEGIN:STANDARD
TZNAME:EST
DTSTART:20221106T020000
TZOFFSETFROM:-0400
TZOFFSETTO:-0500
RDATE:20231105T020000
RDATE:20241103T020000
END:STANDARD
BEGIN:DAYLIGHT
TZNAME:EDT
DTSTART:20230312T020000
TZOFFSETFROM:-0500
TZOFFSETTO:-0400
RDATE:20240310T020000
END:DAYLIGHT
END:VTIMEZONE
BEGIN:VEVENT
UID:f193c7fb-c9f1-4607-ab82-786de8b505de
DTSTAMP:20260419T180658Z
DESCRIPTION:
DTSTART;TZID=America/New_York:20230607T190000
DTEND;TZID=America/New_York:20230607T210000
LOCATION:https://childbereavement.org/en-espanol/
SUMMARY:Grupo de Español
END:VEVENT
END:VCALENDAR
