BEGIN:VCALENDAR
VERSION:2.0
PRODID:-//childbereavement.org//NONSGML kigkonsult.se iCalcreator 2.30.10//
CALSCALE:GREGORIAN
METHOD:PUBLISH
UID:d240ece3-755f-4400-b5ce-937bf2d433e0
X-WR-CALDESC:
X-WR-RELCALID:01ab32fb1751e33a424829c4d2473c86
X-WR-TIMEZONE:America/New_York
BEGIN:VTIMEZONE
TZID:America/New_York
BEGIN:STANDARD
TZNAME:EST
DTSTART:20221106T020000
TZOFFSETFROM:-0400
TZOFFSETTO:-0500
RDATE:20231105T020000
RDATE:20241103T020000
END:STANDARD
BEGIN:DAYLIGHT
TZNAME:EDT
DTSTART:20230312T020000
TZOFFSETFROM:-0500
TZOFFSETTO:-0400
RDATE:20240310T020000
END:DAYLIGHT
END:VTIMEZONE
BEGIN:VEVENT
UID:938bc9d3-697b-4342-b83f-9f1549691c75
DTSTAMP:20260419T180826Z
DESCRIPTION:
DTSTART;TZID=America/New_York:20230606T190000
DTEND;TZID=America/New_York:20230606T203000
LOCATION:https://childbereavement.org/support-groups/grief-support.html
SUMMARY:Adult English Grief Support Group
END:VEVENT
END:VCALENDAR
