BEGIN:VCALENDAR
VERSION:2.0
PRODID:-//childbereavement.org//NONSGML kigkonsult.se iCalcreator 2.30.10//
CALSCALE:GREGORIAN
METHOD:PUBLISH
UID:cf90729e-609b-4ad8-8a17-945c0a3e4af1
X-WR-CALDESC:
X-WR-RELCALID:e2117b72ad0289d7aaeb3130de54c760
X-WR-TIMEZONE:America/New_York
BEGIN:VTIMEZONE
TZID:America/New_York
BEGIN:STANDARD
TZNAME:EST
DTSTART:20221106T020000
TZOFFSETFROM:-0400
TZOFFSETTO:-0500
RDATE:20231105T020000
RDATE:20241103T020000
END:STANDARD
BEGIN:DAYLIGHT
TZNAME:EDT
DTSTART:20230312T020000
TZOFFSETFROM:-0500
TZOFFSETTO:-0400
RDATE:20240310T020000
END:DAYLIGHT
END:VTIMEZONE
BEGIN:VEVENT
UID:de8d64ac-b4ab-47ad-b211-8a5e92267cb9
DTSTAMP:20260419T192844Z
DESCRIPTION:
DTSTART;TZID=America/New_York:20230529T000000
DTEND;TZID=America/New_York:20230529T082900
LOCATION:
SUMMARY:No Groups Meeting
END:VEVENT
END:VCALENDAR
