BEGIN:VCALENDAR
VERSION:2.0
PRODID:-//childbereavement.org//NONSGML kigkonsult.se iCalcreator 2.30.10//
CALSCALE:GREGORIAN
METHOD:PUBLISH
UID:c1289f53-e077-4c7b-a868-860bad296812
X-WR-CALDESC:Dedicated perinatal and infant loss groups are for child loss 
 before birth or during infancy\; available to mothers\, fathers\, couples 
 in English on Tuesdays and Spanish on Wednesdays
X-WR-RELCALID:0d4356d92f21ae0da7078e421102a987
X-WR-TIMEZONE:America/New_York
BEGIN:VTIMEZONE
TZID:America/New_York
BEGIN:STANDARD
TZNAME:EST
DTSTART:20221106T020000
TZOFFSETFROM:-0400
TZOFFSETTO:-0500
RDATE:20231105T020000
RDATE:20241103T020000
END:STANDARD
BEGIN:DAYLIGHT
TZNAME:EDT
DTSTART:20230312T020000
TZOFFSETFROM:-0500
TZOFFSETTO:-0400
RDATE:20240310T020000
END:DAYLIGHT
END:VTIMEZONE
BEGIN:VEVENT
UID:07ede93c-aeba-417f-92a3-4e8f3aefa2b3
DTSTAMP:20260419T193020Z
DESCRIPTION:Dedicated perinatal and infant loss groups are for child loss b
 efore birth or during infancy\; available to mothers\, fathers\, couples i
 n English on Tuesdays and Spanish on Wednesdays
DTSTART;TZID=America/New_York:20230523T190000
DTEND;TZID=America/New_York:20230523T203000
LOCATION:https://childbereavement.org/support-groups/grief-support.html
SUMMARY:Perinatal & Infant Loss Grief Support Group
END:VEVENT
END:VCALENDAR
