BEGIN:VCALENDAR
VERSION:2.0
PRODID:-//childbereavement.org//NONSGML kigkonsult.se iCalcreator 2.30.10//
CALSCALE:GREGORIAN
METHOD:PUBLISH
UID:b9798c87-d8f0-4dd6-95a0-51c1d6250c2c
X-WR-CALDESC:Are you Ready to Reset and Grow!?\n\nPlease join us on May 16t
 h\, 2023 for our special spring into self-care during Mental Health Awaren
 ess and Trauma-Informed Care Month brought to you by Center for Child Coun
 seling\, Tomorrow's Rainbow\, and the Childrens' Bereavement Center.\n\nTh
 is year's theme for the month is Resiliency and Community Healing. With ou
 r partners from Tomorrow's Rainbow and the Children's Bereavement Center\,
  we will bring healing activities and some fun to support your well-being 
 and resilience. Put your green on and join us!\n\nThere is no cost for thi
 s live\, online webinar. You will be able to earn 1.5 CEUs for $10.\n\nFac
 ilitators:\n\nNida Paul – Center for Child Counseling\nAbby Mosher – Tomor
 row’s Rainbow\nJulissa Reynoso – Childrens’ Bereavement Center\n Agenda\n
 \nSelf-care activities will include breathing and breath work with one of 
 Tomorrow's Rainbow's horses\, Chair Yoga\, and a Loving Kindness Meditatio
 n.
X-WR-RELCALID:5e9b7be41a6c55ab2b9a46701dde4469
X-WR-TIMEZONE:America/New_York
BEGIN:VTIMEZONE
TZID:America/New_York
BEGIN:STANDARD
TZNAME:EST
DTSTART:20221106T020000
TZOFFSETFROM:-0400
TZOFFSETTO:-0500
RDATE:20231105T020000
RDATE:20241103T020000
END:STANDARD
BEGIN:DAYLIGHT
TZNAME:EDT
DTSTART:20230312T020000
TZOFFSETFROM:-0500
TZOFFSETTO:-0400
RDATE:20240310T020000
END:DAYLIGHT
END:VTIMEZONE
BEGIN:VEVENT
UID:a734782b-6b12-403d-83de-d1fe39cb336f
DTSTAMP:20260419T192713Z
DESCRIPTION:Are you Ready to Reset and Grow!?\n\nPlease join us on May 16th
 \, 2023 for our special spring into self-care during Mental Health Awarene
 ss and Trauma-Informed Care Month brought to you by Center for Child Couns
 eling\, Tomorrow's Rainbow\, and the Childrens' Bereavement Center.\n\nThi
 s year's theme for the month is Resiliency and Community Healing. With our
  partners from Tomorrow's Rainbow and the Children's Bereavement Center\, 
 we will bring healing activities and some fun to support your well-being a
 nd resilience. Put your green on and join us!\n\nThere is no cost for this
  live\, online webinar. You will be able to earn 1.5 CEUs for $10.\n\nFaci
 litators:\n\nNida Paul – Center for Child Counseling\nAbby Mosher – Tomorr
 ow’s Rainbow\nJulissa Reynoso – Childrens’ Bereavement Center\n Agenda\n\n
 Self-care activities will include breathing and breath work with one of To
 morrow's Rainbow's horses\, Chair Yoga\, and a Loving Kindness Meditation.
DTSTART;TZID=America/New_York:20230516T120000
DTEND;TZID=America/New_York:20230516T133000
LOCATION:https://events.r20.constantcontact.com/register/eventReg?oeidk=a07
 ejqh739gdc988572&oseq=&c=&ch=
SUMMARY:Ready\, Reset\, Grow!
END:VEVENT
END:VCALENDAR
