BEGIN:VCALENDAR
VERSION:2.0
PRODID:-//childbereavement.org//NONSGML kigkonsult.se iCalcreator 2.30.10//
CALSCALE:GREGORIAN
METHOD:PUBLISH
UID:04eb9f93-844a-4e03-9896-33d1bc1a823a
X-WR-CALDESC:
X-WR-RELCALID:f12b7be2ee0ac6d9c04a9c8cc1d68f53
X-WR-TIMEZONE:America/New_York
BEGIN:VTIMEZONE
TZID:America/New_York
BEGIN:STANDARD
TZNAME:EST
DTSTART:20221106T020000
TZOFFSETFROM:-0400
TZOFFSETTO:-0500
RDATE:20231105T020000
RDATE:20241103T020000
END:STANDARD
BEGIN:DAYLIGHT
TZNAME:EDT
DTSTART:20230312T020000
TZOFFSETFROM:-0500
TZOFFSETTO:-0400
RDATE:20240310T020000
END:DAYLIGHT
END:VTIMEZONE
BEGIN:VEVENT
UID:a4f5654c-2a04-4952-a61c-41f44b383261
DTSTAMP:20260419T193728Z
DESCRIPTION:
DTSTART;TZID=America/New_York:20230511T120000
DTEND;TZID=America/New_York:20230511T133000
LOCATION:
SUMMARY:Healing Through Music:  Using Music to Foster Hope and Resilience w
 hen Grieving
END:VEVENT
END:VCALENDAR
