BEGIN:VCALENDAR
VERSION:2.0
PRODID:-//childbereavement.org//NONSGML kigkonsult.se iCalcreator 2.30.10//
CALSCALE:GREGORIAN
METHOD:PUBLISH
UID:a1167b09-7ae0-4860-8dd6-c6787e65072f
X-WR-CALDESC:
X-WR-RELCALID:fa58b77ddbd053fdb766ae33503d46fb
X-WR-TIMEZONE:America/New_York
BEGIN:VTIMEZONE
TZID:America/New_York
BEGIN:STANDARD
TZNAME:EST
DTSTART:20221106T020000
TZOFFSETFROM:-0400
TZOFFSETTO:-0500
RDATE:20231105T020000
RDATE:20241103T020000
END:STANDARD
BEGIN:DAYLIGHT
TZNAME:EDT
DTSTART:20230312T020000
TZOFFSETFROM:-0500
TZOFFSETTO:-0400
RDATE:20240310T020000
END:DAYLIGHT
END:VTIMEZONE
BEGIN:VEVENT
UID:0134e8e9-2c5d-4254-9b3d-357e06549207
DTSTAMP:20260419T193149Z
DESCRIPTION:
DTSTART;TZID=America/New_York:20230508T170000
DTEND;TZID=America/New_York:20230508T180000
LOCATION:https://childbereavement.org/support-groups/grief-support.html
SUMMARY:Orientation for Grief Support Groups\, English
END:VEVENT
END:VCALENDAR
