BEGIN:VCALENDAR
VERSION:2.0
PRODID:-//childbereavement.org//NONSGML kigkonsult.se iCalcreator 2.30.10//
CALSCALE:GREGORIAN
METHOD:PUBLISH
UID:39be5429-ca9c-4a78-9604-e001b9342eaa
X-WR-CALDESC:
X-WR-RELCALID:b9208daf21f9b435687648ecaa676968
X-WR-TIMEZONE:America/New_York
BEGIN:VTIMEZONE
TZID:America/New_York
BEGIN:STANDARD
TZNAME:EST
DTSTART:20221106T020000
TZOFFSETFROM:-0400
TZOFFSETTO:-0500
RDATE:20231105T020000
END:STANDARD
BEGIN:DAYLIGHT
TZNAME:EDT
DTSTART:20230312T020000
TZOFFSETFROM:-0500
TZOFFSETTO:-0400
RDATE:20240310T020000
END:DAYLIGHT
END:VTIMEZONE
BEGIN:VEVENT
UID:f0e9fe04-1d50-4de2-a7ac-6d209f7f0739
DTSTAMP:20260419T211709Z
DESCRIPTION:
DTSTART;TZID=America/New_York:20230426T190000
DTEND;TZID=America/New_York:20230426T203000
LOCATION:https://childbereavement.org/en-espanol/
SUMMARY:Candle Lighting: Grupo de Perdida Perinatal Y de Infancia Español
END:VEVENT
END:VCALENDAR
