BEGIN:VCALENDAR
VERSION:2.0
PRODID:-//childbereavement.org//NONSGML kigkonsult.se iCalcreator 2.30.10//
CALSCALE:GREGORIAN
METHOD:PUBLISH
UID:5754a174-a623-4be3-a5b8-cbe2e42a4c5a
X-WR-CALDESC:
X-WR-RELCALID:32b976a89d7c4049a95abe038975a083
X-WR-TIMEZONE:America/New_York
BEGIN:VTIMEZONE
TZID:America/New_York
BEGIN:STANDARD
TZNAME:EST
DTSTART:20221106T020000
TZOFFSETFROM:-0400
TZOFFSETTO:-0500
RDATE:20231105T020000
END:STANDARD
BEGIN:DAYLIGHT
TZNAME:EDT
DTSTART:20230312T020000
TZOFFSETFROM:-0500
TZOFFSETTO:-0400
RDATE:20240310T020000
END:DAYLIGHT
END:VTIMEZONE
BEGIN:VEVENT
UID:5e68fa8f-31d1-4337-8723-885553a595cc
DTSTAMP:20260419T210712Z
DESCRIPTION:
DTSTART;TZID=America/New_York:20230426T190000
DTEND;TZID=America/New_York:20230426T210000
LOCATION:https://childbereavement.org/en-espanol/
SUMMARY:Candle Lighting: Grupo de Español
END:VEVENT
END:VCALENDAR
