BEGIN:VCALENDAR
VERSION:2.0
PRODID:-//childbereavement.org//NONSGML kigkonsult.se iCalcreator 2.30.10//
CALSCALE:GREGORIAN
METHOD:PUBLISH
UID:f1501052-65d9-4484-9ea6-8594792a8182
X-WR-CALDESC:
X-WR-RELCALID:b672f44cb07edcc702107c6d9ffb7dd7
X-WR-TIMEZONE:America/New_York
BEGIN:VTIMEZONE
TZID:America/New_York
BEGIN:STANDARD
TZNAME:EST
DTSTART:20221106T020000
TZOFFSETFROM:-0400
TZOFFSETTO:-0500
RDATE:20231105T020000
END:STANDARD
BEGIN:DAYLIGHT
TZNAME:EDT
DTSTART:20230312T020000
TZOFFSETFROM:-0500
TZOFFSETTO:-0400
RDATE:20240310T020000
END:DAYLIGHT
END:VTIMEZONE
BEGIN:VEVENT
UID:06d28a55-1917-4c30-8a03-39aabca5ceee
DTSTAMP:20260419T211541Z
DESCRIPTION:
DTSTART;TZID=America/New_York:20230426T190000
DTEND;TZID=America/New_York:20230426T203000
LOCATION:https://childbereavement.org/support-groups/grief-support.html
SUMMARY:Candle Lighting: Adult English Grief Support Group
END:VEVENT
END:VCALENDAR
