BEGIN:VCALENDAR
VERSION:2.0
PRODID:-//childbereavement.org//NONSGML kigkonsult.se iCalcreator 2.30.10//
CALSCALE:GREGORIAN
METHOD:PUBLISH
UID:f4e76b4a-805d-4a42-b4a4-2710c55f08a2
X-WR-CALDESC:Dedicated perinatal and infant loss groups are for child loss 
 before birth or during infancy\; available to mothers\, fathers\, couples 
 in English on Tuesdays and Spanish on Wednesdays
X-WR-RELCALID:c293f16e7c1616f7417ec7435d0fe090
X-WR-TIMEZONE:America/New_York
BEGIN:VTIMEZONE
TZID:America/New_York
BEGIN:STANDARD
TZNAME:EST
DTSTART:20221106T020000
TZOFFSETFROM:-0400
TZOFFSETTO:-0500
RDATE:20231105T020000
END:STANDARD
BEGIN:DAYLIGHT
TZNAME:EDT
DTSTART:20230312T020000
TZOFFSETFROM:-0500
TZOFFSETTO:-0400
RDATE:20240310T020000
END:DAYLIGHT
END:VTIMEZONE
BEGIN:VEVENT
UID:7ca4995a-a632-41f3-aa90-7edbb56f94e1
DTSTAMP:20260419T210529Z
DESCRIPTION:Dedicated perinatal and infant loss groups are for child loss b
 efore birth or during infancy\; available to mothers\, fathers\, couples i
 n English on Tuesdays and Spanish on Wednesdays
DTSTART;TZID=America/New_York:20230425T190000
DTEND;TZID=America/New_York:20230425T203000
LOCATION:https://childbereavement.org/support-groups/grief-support.html
SUMMARY:Candle Lighting: Perinatal & Infant Loss Grief Support Group
END:VEVENT
END:VCALENDAR
