BEGIN:VCALENDAR
VERSION:2.0
PRODID:-//childbereavement.org//NONSGML kigkonsult.se iCalcreator 2.30.10//
CALSCALE:GREGORIAN
METHOD:PUBLISH
UID:db71510d-6b5a-4d5b-90a4-fe0efdde7adc
X-WR-CALDESC:
X-WR-RELCALID:5cce7f3cdbf9d405b3444f9d4989e8e8
X-WR-TIMEZONE:America/New_York
BEGIN:VTIMEZONE
TZID:America/New_York
BEGIN:STANDARD
TZNAME:EST
DTSTART:20221106T020000
TZOFFSETFROM:-0400
TZOFFSETTO:-0500
RDATE:20231105T020000
END:STANDARD
BEGIN:DAYLIGHT
TZNAME:EDT
DTSTART:20230312T020000
TZOFFSETFROM:-0500
TZOFFSETTO:-0400
RDATE:20240310T020000
END:DAYLIGHT
END:VTIMEZONE
BEGIN:VEVENT
UID:c10d7328-e290-40dc-bf2e-8f10464c0fb4
DTSTAMP:20260419T205946Z
DESCRIPTION:
DTSTART;TZID=America/New_York:20230425T190000
DTEND;TZID=America/New_York:20230425T203000
LOCATION:https://childbereavement.org/support-groups/grief-support.html
SUMMARY:Candle Lighting: High School Grief Support Groups
END:VEVENT
END:VCALENDAR
