BEGIN:VCALENDAR
VERSION:2.0
PRODID:-//childbereavement.org//NONSGML kigkonsult.se iCalcreator 2.30.10//
CALSCALE:GREGORIAN
METHOD:PUBLISH
UID:f9093e3a-32b4-4265-9c93-2a0a712097e8
X-WR-CALDESC:
X-WR-RELCALID:656374478deb8887a27a218014c252b8
X-WR-TIMEZONE:America/New_York
BEGIN:VTIMEZONE
TZID:America/New_York
BEGIN:STANDARD
TZNAME:EST
DTSTART:20221106T020000
TZOFFSETFROM:-0400
TZOFFSETTO:-0500
RDATE:20231105T020000
END:STANDARD
BEGIN:DAYLIGHT
TZNAME:EDT
DTSTART:20230312T020000
TZOFFSETFROM:-0500
TZOFFSETTO:-0400
RDATE:20240310T020000
END:DAYLIGHT
END:VTIMEZONE
BEGIN:VEVENT
UID:115e30ec-b4c2-484e-9db3-96337d0df88c
DTSTAMP:20260419T205910Z
DESCRIPTION:
DTSTART;TZID=America/New_York:20230424T190000
DTEND;TZID=America/New_York:20230424T203000
LOCATION:https://childbereavement.org/support-groups/grief-support.html
SUMMARY:Candle Lighting: Middle School Grief Support Group
END:VEVENT
END:VCALENDAR
