BEGIN:VCALENDAR
VERSION:2.0
PRODID:-//childbereavement.org//NONSGML kigkonsult.se iCalcreator 2.30.10//
CALSCALE:GREGORIAN
METHOD:PUBLISH
UID:01d127a5-7aed-411f-8ac8-1c282086fde3
X-WR-CALDESC:
X-WR-RELCALID:a68563147c9fad85f0b08ed1a76b0119
X-WR-TIMEZONE:America/New_York
BEGIN:VTIMEZONE
TZID:America/New_York
BEGIN:STANDARD
TZNAME:EST
DTSTART:20221106T020000
TZOFFSETFROM:-0400
TZOFFSETTO:-0500
RDATE:20231105T020000
END:STANDARD
BEGIN:DAYLIGHT
TZNAME:EDT
DTSTART:20230312T020000
TZOFFSETFROM:-0500
TZOFFSETTO:-0400
RDATE:20240310T020000
END:DAYLIGHT
END:VTIMEZONE
BEGIN:VEVENT
UID:e5b2b0fa-a3de-4f67-8795-0d10e46c2bbd
DTSTAMP:20260419T211357Z
DESCRIPTION:
DTSTART;TZID=America/New_York:20230424T190000
DTEND;TZID=America/New_York:20230424T203000
LOCATION:https://childbereavement.org/support-groups/grief-support.html
SUMMARY:Candle Lighting:   Adult English Grief Support Group
END:VEVENT
END:VCALENDAR
