BEGIN:VCALENDAR
VERSION:2.0
PRODID:-//childbereavement.org//NONSGML kigkonsult.se iCalcreator 2.30.10//
CALSCALE:GREGORIAN
METHOD:PUBLISH
UID:c846dbdd-9371-4416-9809-e099de6faf20
X-WR-CALDESC:
X-WR-RELCALID:d06bdd20fd2ab10535e8fbee19db30d5
X-WR-TIMEZONE:America/New_York
BEGIN:VTIMEZONE
TZID:America/New_York
BEGIN:STANDARD
TZNAME:EST
DTSTART:20221106T020000
TZOFFSETFROM:-0400
TZOFFSETTO:-0500
RDATE:20231105T020000
END:STANDARD
BEGIN:DAYLIGHT
TZNAME:EDT
DTSTART:20230312T020000
TZOFFSETFROM:-0500
TZOFFSETTO:-0400
RDATE:20240310T020000
END:DAYLIGHT
END:VTIMEZONE
BEGIN:VEVENT
UID:541abd29-f9ac-4870-a088-80d71828f569
DTSTAMP:20260419T205248Z
DESCRIPTION:
DTSTART;TZID=America/New_York:20230424T173000
DTEND;TZID=America/New_York:20230424T183000
LOCATION:https://childbereavement.org/support-groups/grief-support.html
SUMMARY:Candle Lighting: Elementary Grief Support Group
END:VEVENT
END:VCALENDAR
