BEGIN:VCALENDAR
VERSION:2.0
PRODID:-//childbereavement.org//NONSGML kigkonsult.se iCalcreator 2.30.10//
CALSCALE:GREGORIAN
METHOD:PUBLISH
UID:1105b7c2-8ea9-46bc-a335-e3f19952fcd6
X-WR-CALDESC:Dedicated perinatal and infant loss groups are for child loss 
 before birth or during infancy\; available to mothers\, fathers\, couples 
 in English on Tuesdays and Spanish on Wednesdays
X-WR-RELCALID:3a708acd6833bd99fa4a21c593cc9f4a
X-WR-TIMEZONE:America/New_York
BEGIN:VTIMEZONE
TZID:America/New_York
BEGIN:STANDARD
TZNAME:EST
DTSTART:20221106T020000
TZOFFSETFROM:-0400
TZOFFSETTO:-0500
RDATE:20231105T020000
END:STANDARD
BEGIN:DAYLIGHT
TZNAME:EDT
DTSTART:20230312T020000
TZOFFSETFROM:-0500
TZOFFSETTO:-0400
RDATE:20240310T020000
END:DAYLIGHT
END:VTIMEZONE
BEGIN:VEVENT
UID:2cced17c-ea53-4e2e-808b-86525c4451c6
DTSTAMP:20260419T211709Z
DESCRIPTION:Dedicated perinatal and infant loss groups are for child loss b
 efore birth or during infancy\; available to mothers\, fathers\, couples i
 n English on Tuesdays and Spanish on Wednesdays
DTSTART;TZID=America/New_York:20230418T190000
DTEND;TZID=America/New_York:20230418T203000
LOCATION:https://childbereavement.org/support-groups/grief-support.html
SUMMARY:Perinatal & Infant Loss Grief Support Group
END:VEVENT
END:VCALENDAR
