BEGIN:VCALENDAR
VERSION:2.0
PRODID:-//childbereavement.org//NONSGML kigkonsult.se iCalcreator 2.30.10//
CALSCALE:GREGORIAN
METHOD:PUBLISH
UID:b27e2976-de78-4b6b-b02e-83f4de3251fd
X-WR-CALDESC:
X-WR-RELCALID:32e5706e901f7db884619399712f06a5
X-WR-TIMEZONE:America/New_York
BEGIN:VTIMEZONE
TZID:America/New_York
BEGIN:STANDARD
TZNAME:EST
DTSTART:20221106T020000
TZOFFSETFROM:-0400
TZOFFSETTO:-0500
RDATE:20231105T020000
END:STANDARD
BEGIN:DAYLIGHT
TZNAME:EDT
DTSTART:20230312T020000
TZOFFSETFROM:-0500
TZOFFSETTO:-0400
RDATE:20240310T020000
END:DAYLIGHT
END:VTIMEZONE
BEGIN:VEVENT
UID:0b4d00e3-eff3-4c79-9525-6dadd81188da
DTSTAMP:20260419T211239Z
DESCRIPTION:
DTSTART;TZID=America/New_York:20230417T190000
DTEND;TZID=America/New_York:20230417T203000
LOCATION:https://childbereavement.org/support-groups/grief-support.html
SUMMARY:Middle School Grief Support Group
END:VEVENT
END:VCALENDAR
