BEGIN:VCALENDAR
VERSION:2.0
PRODID:-//childbereavement.org//NONSGML kigkonsult.se iCalcreator 2.30.10//
CALSCALE:GREGORIAN
METHOD:PUBLISH
UID:a6f44b46-1c37-4685-9660-c140f3c58c89
X-WR-CALDESC:
X-WR-RELCALID:695c29d95aae324196952917c8efefdd
X-WR-TIMEZONE:America/New_York
BEGIN:VTIMEZONE
TZID:America/New_York
BEGIN:STANDARD
TZNAME:EST
DTSTART:20221106T020000
TZOFFSETFROM:-0400
TZOFFSETTO:-0500
RDATE:20231105T020000
END:STANDARD
BEGIN:DAYLIGHT
TZNAME:EDT
DTSTART:20230312T020000
TZOFFSETFROM:-0500
TZOFFSETTO:-0400
RDATE:20240310T020000
END:DAYLIGHT
END:VTIMEZONE
BEGIN:VEVENT
UID:b7231940-06e2-4375-9f64-b0308d6d60cf
DTSTAMP:20260419T211211Z
DESCRIPTION:
DTSTART;TZID=America/New_York:20230412T190000
DTEND;TZID=America/New_York:20230412T203000
LOCATION:https://childbereavement.org/support-groups/grief-support.html
SUMMARY:Young Adult Grief Support Group
END:VEVENT
END:VCALENDAR
