BEGIN:VCALENDAR
VERSION:2.0
PRODID:-//childbereavement.org//NONSGML kigkonsult.se iCalcreator 2.30.10//
CALSCALE:GREGORIAN
METHOD:PUBLISH
UID:f9fd6aef-6164-425c-a8e6-cb260d283952
X-WR-CALDESC:
X-WR-RELCALID:46d8e6cc119e26dd8e587f2bc730d121
X-WR-TIMEZONE:America/New_York
BEGIN:VTIMEZONE
TZID:America/New_York
BEGIN:STANDARD
TZNAME:EST
DTSTART:20221106T020000
TZOFFSETFROM:-0400
TZOFFSETTO:-0500
RDATE:20231105T020000
END:STANDARD
BEGIN:DAYLIGHT
TZNAME:EDT
DTSTART:20230312T020000
TZOFFSETFROM:-0500
TZOFFSETTO:-0400
RDATE:20240310T020000
END:DAYLIGHT
END:VTIMEZONE
BEGIN:VEVENT
UID:258f6a3f-61f7-45eb-b27f-91cacc7932e4
DTSTAMP:20260419T211026Z
DESCRIPTION:
DTSTART;TZID=America/New_York:20230412T190000
DTEND;TZID=America/New_York:20230412T203000
LOCATION:https://childbereavement.org/en-espanol/
SUMMARY:Grupo de Perdida Perinatal Y de Infancia Español
END:VEVENT
END:VCALENDAR
